BEGIN:VCALENDAR
VERSION:2.0
PRODID:-//Le Petit Varois.Fr - ECPv6.0.10//NONSGML v1.0//EN
CALSCALE:GREGORIAN
METHOD:PUBLISH
X-WR-CALNAME:Le Petit Varois.Fr
X-ORIGINAL-URL:https://lepetitvarois.fr
X-WR-CALDESC:évènements pour Le Petit Varois.Fr
REFRESH-INTERVAL;VALUE=DURATION:PT1H
X-Robots-Tag:noindex
X-PUBLISHED-TTL:PT1H
BEGIN:VTIMEZONE
TZID:Europe/Paris
BEGIN:DAYLIGHT
TZOFFSETFROM:+0100
TZOFFSETTO:+0200
TZNAME:CEST
DTSTART:20200329T010000
END:DAYLIGHT
BEGIN:STANDARD
TZOFFSETFROM:+0200
TZOFFSETTO:+0100
TZNAME:CET
DTSTART:20201025T010000
END:STANDARD
END:VTIMEZONE
BEGIN:VEVENT
DTSTART;VALUE=DATE:20200218
DTEND;VALUE=DATE:20200302
DTSTAMP:20260420T142917
CREATED:20200202T195630Z
LAST-MODIFIED:20200202T195630Z
UID:14363-1581984000-1583107199@lepetitvarois.fr
SUMMARY:Cirque Warren Zavatta
DESCRIPTION: Cirque Warren Zavatta  \nReprésentation tous les jours à 16h (Durée 1h30). Parking du port de la Coudoulière\, corniche de la Coudoulière. SIX FOURS\nLe cirque Warren Zavatta vous propose son nouveau spectacle « Les 1000 couleurs » avec des numéros internationaux\, la Reine des Neiges\, la malle des Indes\, la grande illusion. Retour des Super Héros\, de nos multiples T-REX\, nos dinosaures robotisés\, tous les amis de la Pat’Patrouille\, les clowns musicaux et un final époustouflant. \nChapiteau chauffé.\n> Gradins : 12 € enfants / 16 € adultes. Chaises : 17 € enfants / 19 € adultes. Billetterie en vente sur place toute la journée (Demander la caissière). \nRenseignement 06 64 25 05 48   \n 
URL:https://lepetitvarois.fr/event/cirque-warren-zavatta/
CATEGORIES:Six-Fours
ATTACH;FMTTYPE=image/jpeg:https://lepetitvarois.fr/wp-content/uploads/2018/06/circus-828680_960_720.jpg
END:VEVENT
BEGIN:VEVENT
DTSTART;TZID=Europe/Paris:20200219T090000
DTEND;TZID=Europe/Paris:20200219T130000
DTSTAMP:20260420T142917
CREATED:20200202T195811Z
LAST-MODIFIED:20200202T195811Z
UID:14365-1582102800-1582117200@lepetitvarois.fr
SUMMARY:Forum de l'emploi
DESCRIPTION:Forum de l’emploi de 9h à 13h. \nHalle des sports du Verger\, 6 av. Maréchal de Lattre de Tassigny. SIX FOURS\nOrganisé par le CCAS en partenariat avec le Pôle emploi de Six Fours\, plus d’une cinquantaine d’entreprise réparties sur le secteur littoral sud sainte baume seront présentes proposant des postes dans divers secteurs d’activités : armée\, sécurité\, automobile\, casino de jeux\, mécanique navale\, commerce et grande distribution\, EPHAD\, hôtellerie/restauration\, immobilier\, industrie cosmétique\,  mutuelle\, nettoyage\, notaire\, services à la personne\, viticulture…  \nLes demandeurs d’emplois pourront échanger avec les recruteurs qui proposeront des postes en CDD ou CDI. A noter\, entre autre\, la présence de la société hôtelière Ricard Les Embiez\, Monaco Marine\, les enseignes Castorama\, Metro\, Carrefour Market\, Gemy Peugeot\, le Casino Viking et le domaine viticole OTT.  \nAfin de mieux se préparer aux entretiens\, mise en place d’ateliers coaching réalisés tout au long de la matinée par les agents de Pôle Emploi.  \nNB : des mesures de sécurité seront en place pour l’accès à la salle. Ainsi\, veillez à venir avec le strict minimum sur vous (CV\, lettre de motivation\, papier identité\, …) et éviter les sacs trop volumineux pour un gain de temps à l’entrée et pour la sécurité de tous.  \nEmplois saisonniers :  \nLes recrutements pour les postes saisonniers de juin à septembre seront proposés sur les stands de la Mairie pour les postes ville et sur les stands TPM pour les emplois relevant de la Métropole Toulon Provence Méditerranée. Dossier d’inscriptions “emploi saisonnier” à retirer dans les différents points d’accueil de la mairie.\n> Entrée libre. \nCentre Communal d’Actions Sociales 04 94 34 94 50 evenementiels-ccas@mairie-six-fours.fr  \n 
URL:https://lepetitvarois.fr/event/forum-de-lemploi/
CATEGORIES:Six-Fours
ATTACH;FMTTYPE=image/jpeg:https://lepetitvarois.fr/wp-content/uploads/2018/06/adult-1868049_960_720.jpg
END:VEVENT
BEGIN:VEVENT
DTSTART;TZID=Europe/Paris:20200219T183000
DTEND;TZID=Europe/Paris:20200219T200000
DTSTAMP:20260420T142917
CREATED:20200202T200049Z
LAST-MODIFIED:20200202T200049Z
UID:14371-1582137000-1582142400@lepetitvarois.fr
SUMMARY:Conversation anglaise tous niveaux
DESCRIPTION:Conversation anglaise tous niveaux de 18h30 à 20h. \nRestaurant Le Mont Salva\, ch. du Mont Salva\, Le Brusc. SIX FOURS\nConversation en présence d’une enseignante d’anglais. Ouvert à tous\, débutants ou confirmés de 7 à 77 ans et plus. \nL’objectif étant de pratiquer la langue anglaise dans une ambiance et un cadre sympathique. \n> Gratuit + consommation obligatoire 3 €. \nSix-Fours English 06 98 46 27 65 masstguir@orange.fr  \n 
URL:https://lepetitvarois.fr/event/conversation-anglaise-tous-niveaux-7/
CATEGORIES:Six-Fours
ATTACH;FMTTYPE=image/jpeg:https://lepetitvarois.fr/wp-content/uploads/2018/04/american-1209605_960_720.jpg
END:VEVENT
END:VCALENDAR